Workbook

Sheet Notas de Disciplina Financiera
A1: CASA DE LA CULTURA XOCHIQUETZAL | C1: Ejercicio: | D1: 2025
A2: Notas de Disciplina Financiera | C2: Periodicidad: | D2: Trimestral
A3: DEL 01 DE ENERO DEL 2025 AL 31 DE DICIEMBRE DEL 2025 | C3: Corte: | D3: 4
A4: (Cifras en Pesos)
A5: NOTAS | B5: DESCRIPCIÓN
B7: NOTAS DE DISCIPLINA FINANCIERA:
A9: NDF-01 | B9: 1. Balance Presupuestario de Recursos Disponibles Negativo
A10: NDF-02 | B10: 2. Aumento o creación de nuevo Gasto
A11: NDF-03 | B11: 3. Pasivo Circulante al Cierre del Ejercicio (ESF-12)
A12: NDF-04 | B12: 4. Deuda Pública y Obligaciones
A13: NDF-05 | B13: 5. Obligaciones a Corto Plazo
A14: NDF-06 | B14: 6. Evaluación de Cumplimiento

Sheet NDF-01
B1: ='Notas de Disciplina Financiera'!A1 -> CASA DE LA CULTURA XOCHIQUETZAL | E1: Ejercicio: | F1: ='Notas de Disciplina Financiera'!D1 -> 2025
B2: Notas de Disciplina Financiera | E2: Periodicidad: | F2: ='Notas de Disciplina Financiera'!D2 -> Trimestral
B3: ='Notas de Disciplina Financiera'!A3 -> DEL 01 DE ENERO DEL 2025 AL 31 DE DICIEMBRE DEL 2025 | E3: Corte: | F3: ='Notas de Disciplina Financiera'!D3 -> 4
C5: 1. Balance Presupuestario de Recursos Disponibles Negativo
B7: Se informará:
B8: a) Acciones para recuperar el Balance Presupuestario de Recursos Disponibles Sostenible.
C16: Favor de ver el instructivo de esta nota (NDF-01):
C17: En caso de no obtener un Balance Presupuestario de Recursos Disponibles Negativo, indicar la aclaración.

Sheet NDF-01 (I)
A2: Nota | B2: Instructivo
A4: NDF-01 | B4: 1. Balance Presupuestario de Recursos Disponibles Negativo
B5: Se informará:
B6: a) Acciones para recuperar el Balance Presupuestario de Recursos Disponibles Sostenible.
B8: Fundamento Artículo 6 y 19 LDF
B63: En caso de no tener Balance Presupuestario de Recursos Disponibles Negativo, indicar la aclaración.
B64: como por ejemplo:
B66: "Ya que cuento con Balance Presupuestario Sostenible."

Sheet NDF-02
B1: ='Notas de Disciplina Financiera'!A1 -> CASA DE LA CULTURA XOCHIQUETZAL | E1: Ejercicio: | F1: ='Notas de Disciplina Financiera'!D1 -> 2025
B2: Notas de Disciplina Financiera | E2: Periodicidad: | F2: ='Notas de Disciplina Financiera'!D2 -> Trimestral
B3: ='Notas de Disciplina Financiera'!A3 -> DEL 01 DE ENERO DEL 2025 AL 31 DE DICIEMBRE DEL 2025 | E3: Corte: | F3: ='Notas de Disciplina Financiera'!D3 -> 4
B5: 2. Aumento o creación de nuevo Gasto:
B6: =B1 -> CASA DE LA CULTURA XOCHIQUETZAL
B7: Art. 8 LDF
B8: Clasificación por Objeto del Gasto (Capítulo y Concepto)
B9: =B3 -> DEL 01 DE ENERO DEL 2025 AL 31 DE DICIEMBRE DEL 2025
B10: (PESOS)
D11: Modificaciones
B12: Concepto (c) | C12: Aprobado (d) | D12: Ampliaciones Líquidas | E12: Reducciones Líquidas | F12: Ampliaciones Compensadas | G12: Reducciones Compensadas | H12: Total | I12: Modificado
B13: I. Gasto No Etiquetado (I=A+B+C+D+E+F+G+H+I) | C13: =C14+C22+C32+C42+C52+C62+C66+C74+C78 -> 2235288 | D13: =D14+D22+D32+D42+D52+D62+D66+D74+D78 -> 190000 | E13: =E14+E22+E32+E42+E52+E62+E66+E74+E78 -> 120000 | F13: =F14+F22+F32+F42+F52+F62+F66+F74+F78 -> 0 | G13: =G14+G22+G32+G42+G52+G62+G66+G74+G78 -> 0 | H13: =H14+H22+H32+H42+H52+H62+H66+H74+H78 -> 70000 | I13: =I14+I22+I32+I42+I52+I62+I66+I74+I78 -> 2305288
B14: A. Servicios Personales (A=a1+a2+a3+a4+a5+a6+a7) | C14: =SUM(C15:C21) -> 1675720 | D14: =SUM(D15:D21) -> 0 | E14: =SUM(E15:E21) -> 30000 | F14: =SUM(F15:F21) -> 0 | G14: =SUM(G15:G21) -> 0 | H14: =SUM(H15:H21) -> -30000 | I14: =SUM(I15:I21) -> 1645720
B15: a1) Remuneraciones al Personal de Carácter Permanente | C15: 962870 | D15: 0 | E15: 15000 | F15: 0 | G15: 0 | H15: =D15+F15-E15-G15 -> -15000 | I15: =C15+H15 -> 947870
B16: a2) Remuneraciones al Personal de Carácter Transitorio | C16: 450000 | D16: 0 | E16: 0 | F16: 0 | G16: 0 | H16: =D16+F16-E16-G16 -> 0 | I16: =C16+H16 -> 450000
B17: a3) Remuneraciones Adicionales y Especiales | C17: 197850 | D17: 0 | E17: 0 | F17: 0 | G17: 0 | H17: =D17+F17-E17-G17 -> 0 | I17: =C17+H17 -> 197850
B18: a4) Seguridad Social | C18: 0 | D18: 0 | E18: 0 | F18: 0 | G18: 0 | H18: =D18+F18-E18-G18 -> 0 | I18: =C18+H18 -> 0
B19: a5) Otras Prestaciones Sociales y Económicas | C19: 65000 | D19: 0 | E19: 15000 | F19: 0 | G19: 0 | H19: =D19+F19-E19-G19 -> -15000 | I19: =C19+H19 -> 50000
B20: a6) Previsiones | C20: 0 | D20: 0 | E20: 0 | F20: 0 | G20: 0 | H20: =D20+F20-E20-G20 -> 0 | I20: =C20+H20 -> 0
B21: a7) Pago de Estímulos a Servidores Públicos | C21: 0 | D21: 0 | E21: 0 | F21: 0 | G21: 0 | H21: =D21+F21-E21-G21 -> 0 | I21: =C21+H21 -> 0
B22: B. Materiales y Suministros (B=b1+b2+b3+b4+b5+b6+b7+b8+b9) | C22: =SUM(C23:C31) -> 196700 | D22: =SUM(D23:D31) -> 20000 | E22: =SUM(E23:E31) -> 20000 | F22: =SUM(F23:F31) -> 0 | G22: =SUM(G23:G31) -> 0 | H22: =SUM(H23:H31) -> 0 | I22: =SUM(I23:I31) -> 196700
B23: b1) Materiales de Administración, Emisión de Documentos y Artículos Oficiales | C23: 29000 | D23: 0 | E23: 0 | F23: 0 | G23: 0 | H23: =D23+F23-E23-G23 -> 0 | I23: =C23+H23 -> 29000
B24: b2) Alimentos y Utensilios | C24: 30100 | D24: 0 | E24: 0 | F24: 0 | G24: 0 | H24: =D24+F24-E24-G24 -> 0 | I24: =C24+H24 -> 30100
B25: b3) Materias Primas y Materiales de Producción y Comercialización | C25: 0 | D25: 0 | E25: 0 | F25: 0 | G25: 0 | H25: =D25+F25-E25-G25 -> 0 | I25: =C25+H25 -> 0
B26: b4) Materiales y Artículos de Construcción y de Reparación | C26: 31400 | D26: 0 | E26: 0 | F26: 0 | G26: 0 | H26: =D26+F26-E26-G26 -> 0 | I26: =C26+H26 -> 31400
B27: b5) Productos Químicos, Farmacéuticos y de Laboratorio | C27: 1000 | D27: 0 | E27: 0 | F27: 0 | G27: 0 | H27: =D27+F27-E27-G27 -> 0 | I27: =C27+H27 -> 1000
B28: b6) Combustibles, Lubricantes y Aditivos | C28: 80000 | D28: 20000 | E28: 0 | F28: 0 | G28: 0 | H28: =D28+F28-E28-G28 -> 20000 | I28: =C28+H28 -> 100000
B29: b7) Vestuario, Blancos, Prendas de Protección y Artículos Deportivos | C29: 10100 | D29: 0 | E29: 10000 | F29: 0 | G29: 0 | H29: =D29+F29-E29-G29 -> -10000 | I29: =C29+H29 -> 100
B30: b8) Materiales y Suministros Para Seguridad | C30: 0 | D30: 0 | E30: 0 | F30: 0 | G30: 0 | H30: =D30+F30-E30-G30 -> 0 | I30: =C30+H30 -> 0
B31: b9) Herramientas, Refacciones y Accesorios Menores | C31: 15100 | D31: 0 | E31: 10000 | F31: 0 | G31: 0 | H31: =D31+F31-E31-G31 -> -10000 | I31: =C31+H31 -> 5100
B32: C. Servicios Generales (C=c1+c2+c3+c4+c5+c6+c7+c8+c9) | C32: =SUM(C33:C41) -> 351468 | D32: =SUM(D33:D41) -> 170000 | E32: =SUM(E33:E41) -> 60000 | F32: =SUM(F33:F41) -> 0 | G32: =SUM(G33:G41) -> 0 | H32: =SUM(H33:H41) -> 110000 | I32: =SUM(I33:I41) -> 461468
B33: c1) Servicios Básicos | C33: 37100 | D33: 0 | E33: 0 | F33: 0 | G33: 0 | H33: =D33+F33-E33-G33 -> 0 | I33: =C33+H33 -> 37100
B34: c2) Servicios de Arrendamiento | C34: 40200 | D34: 0 | E34: 40000 | F34: 0 | G34: 0 | H34: =D34+F34-E34-G34 -> -40000 | I34: =C34+H34 -> 200
B35: c3) Servicios Profesionales, Científicos, Técnicos y Otros Servicios | C35: 60100 | D35: 0 | E35: 0 | F35: 0 | G35: 0 | H35: =D35+F35-E35-G35 -> 0 | I35: =C35+H35 -> 60100
B36: c4) Servicios Financieros, Bancarios y Comerciales | C36: 10100 | D36: 0 | E36: 0 | F36: 0 | G36: 0 | H36: =D36+F36-E36-G36 -> 0 | I36: =C36+H36 -> 10100
B37: c5) Servicios de Instalación, Reparación, Mantenimiento y Conservación | C37: 55100 | D37: 0 | E37: 20000 | F37: 0 | G37: 0 | H37: =D37+F37-E37-G37 -> -20000 | I37: =C37+H37 -> 35100
B38: c6) Servicios de Comunicación Social y Publicidad | C38: 0 | D38: 0 | E38: 0 | F38: 0 | G38: 0 | H38: =D38+F38-E38-G38 -> 0 | I38: =C38+H38 -> 0
B39: c7) Servicios de Traslado y Viáticos | C39: 2000 | D39: 0 | E39: 0 | F39: 0 | G39: 0 | H39: =D39+F39-E39-G39 -> 0 | I39: =C39+H39 -> 2000
B40: c8) Servicios Oficiales | C40: 96868 | D40: 170000 | E40: 0 | F40: 0 | G40: 0 | H40: =D40+F40-E40-G40 -> 170000 | I40: =C40+H40 -> 266868
B41: c9) Otros Servicios Generales | C41: 50000 | D41: 0 | E41: 0 | F41: 0 | G41: 0 | H41: =D41+F41-E41-G41 -> 0 | I41: =C41+H41 -> 50000
...

Sheet NDF-02 (I)
A2: Nota | B2: Instructivo
A4: NDF-02 | B4: 2. Aumento o creación de nuevo Gasto
B5: Se informará:
B6: a) Fuente de Ingresos del aumento o creación del Gasto no Etiquetado.
B7: b) Fuente de Ingresos del aumento o creación del Gasto Etiquetado.
B9: Fundamento Artículo 6 y 19 LDF

Sheet NDF-03
B1: ='Notas de Disciplina Financiera'!A1 -> CASA DE LA CULTURA XOCHIQUETZAL | E1: Ejercicio: | F1: ='Notas de Disciplina Financiera'!D1 -> 2025
B2: Notas de Disciplina Financiera | E2: Periodicidad: | F2: ='Notas de Disciplina Financiera'!D2 -> Trimestral
B3: ='Notas de Disciplina Financiera'!A3 -> DEL 01 DE ENERO DEL 2025 AL 31 DE DICIEMBRE DEL 2025 | E3: Corte: | F3: ='Notas de Disciplina Financiera'!D3 -> 4
C5: 3. Pasivo Circulante al Cierre del Ejercicio (ESF-12):
B6: =B1 -> CASA DE LA CULTURA XOCHIQUETZAL
B7: Informe de cuentas por pagar y que integran el pasivo circulante al cierre del ejercicio
B8: Ejercicio 20XN
B9: COG | C9: Concepto | D9: Devengado | E9: Pagado | F9: Cuentas por pagar
D10: (a) | E10: (b) | F10: (c) = (a-b)
C11: Gasto No Etiquetado | D11: =SUM(D12:D20) -> 1224386.2 | E11: =SUM(E12:E20) -> 1224386.2 | F11: =SUM(F12:F20) -> 0
B12: 1000 | C12: Servicios Personales | D12: 852656 | E12: 852656 | F12: =D12-E12 -> 0
B13: 2000 | C13: Materiales y Suministros | D13: 155598.02 | E13: 155598.02 | F13: =D13-E13 -> 0
B14: 3000 | C14: Servicios Generales | D14: 216132.17 | E14: 216132.17 | F14: =D14-E14 -> 0
B15: 4000 | C15: Transferencias, Asignaciones, Subsidios y Otras Ayudas | D15: 0 | E15: 0 | F15: =D15-E15 -> 0
B16: 5000 | C16: Bienes Muebles, Inmuebles e Intangibles | D16: 0 | E16: 0 | F16: =D16-E16 -> 0
B17: 6000 | C17: Inversión Pública | D17: 0 | E17: 0 | F17: =D17-E17 -> 0
B18: 7000 | C18: Inversiones Financieras y Otras Provisiones | D18: 0 | E18: 0 | F18: =D18-E18 -> 0
B19: 8000 | C19: Participaciones y Aportaciones | D19: 0 | E19: 0 | F19: =D19-E19 -> 0
B20: 9000 | C20: Deuda Pública | D20: 0 | E20: 0 | F20: =D20-E20 -> 0
C21: Gasto Etiquetado | D21: =SUM(D22:D30) -> 0 | E21: =SUM(E22:E30) -> 0 | F21: =SUM(F22:F30) -> 0
B22: 1000 | C22: Servicios Personales | D22: 0 | E22: 0 | F22: =D22-E22 -> 0
B23: 2000 | C23: Materiales y Suministros | D23: 0 | E23: 0 | F23: =D23-E23 -> 0
B24: 3000 | C24: Servicios Generales | D24: 0 | E24: 0 | F24: =D24-E24 -> 0
B25: 4000 | C25: Transferencias, Asignaciones, Subsidios y Otras Ayudas | D25: 0 | E25: 0 | F25: =D25-E25 -> 0
B26: 5000 | C26: Bienes Muebles, Inmuebles e Intangibles | D26: 0 | E26: 0 | F26: =D26-E26 -> 0
B27: 6000 | C27: Inversión Pública | D27: 0 | E27: 0 | F27: =D27-E27 -> 0
B28: 7000 | C28: Inversiones Financieras y Otras Provisiones | D28: 0 | E28: 0 | F28: =D28-E28 -> 0
B29: 8000 | C29: Participaciones y Aportaciones | D29: 0 | E29: 0 | F29: =D29-E29 -> 0
B30: 9000 | C30: Deuda Pública | D30: 0 | E30: 0 | F30: =D30-E30 -> 0
C31: Total | D31: =D11+D21 -> 1224386.2 | E31: =E11+E21 -> 1224386.2 | F31: =F11+F21 -> 0
C33: Favor de ver el instructivo de esta nota (NDF-03):
C34: En caso de no tener pasivos al cierre del ejercicio, hacer la aclaración o la inidcación.

Sheet NDF-03 (I)
A2: Nota | B2: Instructivo
A4: NDF-03 | B4: 3. Pasivo Circulante al Cierre del Ejercicio (ESF-12)
B5: Se informará solo al 31 de diciembre
B7: Fundamento Artículo 13 VII y 21 LDF
B30: En caso de no tener pasivos al cierre del ejercicio, indicar la aclaración.
B31: como por ejemplo:
B33: "Ya que no cuento con devengados en el año que corresponda y que se hubieren registrado en cuentas por pagar
B34: y que integran el pasivo circulante al cierre del ejercicio."

Sheet NDF-04
B1: ='Notas de Disciplina Financiera'!A1 -> CASA DE LA CULTURA XOCHIQUETZAL | E1: Ejercicio: | F1: ='Notas de Disciplina Financiera'!D1 -> 2025
B2: Notas de Disciplina Financiera | E2: Periodicidad: | F2: ='Notas de Disciplina Financiera'!D2 -> Trimestral
B3: ='Notas de Disciplina Financiera'!A3 -> DEL 01 DE ENERO DEL 2025 AL 31 DE DICIEMBRE DEL 2025 | E3: Corte: | F3: ='Notas de Disciplina Financiera'!D3 -> 4
C5: 4. Deuda Pública y Obligaciones
B7: Se revelará:
B8: a) La información detallada de cada Financiamiento u Obligación contraída en los términos del Título Tercero Capítulo
B9: Uno de la Ley de Disciplina Financiera de las Entidades Federativas y Municipios, incluyendocomo mínimo,el importe,
B10: tasa, plazo, comisiones y demás accesorios pactados.
C13: Favor de ver el instructivo de esta nota (NDF-04):
C14: En caso de no contar deuda pública u obligaciones, hacer la aclaración o la inidcación.

Sheet NDF-04 (I)
A2: Nota | B2: Instructivo
A4: NDF-04 | B4: 4. Deuda Pública y Obligaciones
B5: Se revelará:
B6: a) La información detallada de cada Financiamiento u Obligación contraída en los términos del Título Tercero Capítulo
B7: Uno de la Ley de Disciplina Financiera de las Entidades Federativas y Municipios, incluyendocomo mínimo,el importe,
B8: tasa, plazo, comisiones y demás accesorios pactados.
B10: Fundamento Artículo 25 LDF
B24: En caso de no tener Deuda Pública y Obligaciones ante el RPU, indicar la aclaración.
B25: como por ejemplo:
B27: "No cuento con Financiamiento u Obligaciones contraídas, en el RPU."

Sheet NDF-05
B1: ='Notas de Disciplina Financiera'!A1 -> CASA DE LA CULTURA XOCHIQUETZAL | E1: Ejercicio: | F1: ='Notas de Disciplina Financiera'!D1 -> 2025
B2: Notas de Disciplina Financiera | E2: Periodicidad: | F2: ='Notas de Disciplina Financiera'!D2 -> Trimestral
B3: ='Notas de Disciplina Financiera'!A3 -> DEL 01 DE ENERO DEL 2025 AL 31 DE DICIEMBRE DEL 2025 | E3: Corte: | F3: ='Notas de Disciplina Financiera'!D3 -> 4
C5: 5. Obligaciones a Corto Plazo
B7: Se revelará:
B8: a) La información detallada de las Obligaciones a corto plazo contraídas en los términos del Título Tercero Capítulo Uno
B9: de la Ley de Disciplina Financiera de las Entidades Federativas y Municipios, incluyendo por lo menos importe, tasas,
B10: plazo, comisiones y cualquier costo relacionado, así mismo se deberá incluir la tasa efectiva.
C13: Favor de ver el instructivo de esta nota (NDF-05):
C14: En caso de no contar con Obligaciones a Corto Plazo, hacer la aclaración o la inidcación.

Sheet NDF-05 (I)
A2: Nota | B2: Instructivo
A4: NDF-05 | B4: 5. Obligaciones a Corto Plazo
B5: Se revelará:
B6: a) La información detallada de las Obligaciones a corto plazo contraídas en los términos del Título Tercero Capítulo Uno
B7: de la Ley de Disciplina Financiera de las Entidades Federativas y Municipios, incluyendo por lo menos importe, tasas,
B8: plazo, comisiones y cualquier costo relacionado, así mismo se deberá incluir la tasa efectiva.
B10: Fundamento Artículo 31 LDF
B22: En caso de no contar con Obligaciones a Corto Plazo, hacer la aclaración o la inidcación.
B23: como por ejemplo:
B25: "No cuento con Obligaciones a Corto Plazo"

Sheet NDF-06
B1: ='Notas de Disciplina Financiera'!A1 -> CASA DE LA CULTURA XOCHIQUETZAL | E1: Ejercicio: | F1: ='Notas de Disciplina Financiera'!D1 -> 2025
B2: Notas de Disciplina Financiera | E2: Periodicidad: | F2: ='Notas de Disciplina Financiera'!D2 -> Trimestral
B3: ='Notas de Disciplina Financiera'!A3 -> DEL 01 DE ENERO DEL 2025 AL 31 DE DICIEMBRE DEL 2025 | E3: Corte: | F3: ='Notas de Disciplina Financiera'!D3 -> 4
C5: 6. Evaluación de Cumplimiento
B7: Se revelará:
B8: a) La información relativa al cumplimiento de los convenios de Deuda Garantizada.

Sheet NDF-06 (I)
A2: Nota | B2: Instructivo
A4: NDF-06 | B4: 6. Evaluación de Cumplimiento
B5: Se revelará:
B6: a) La información relativa al cumplimiento de los convenios de Deuda Garantizada.
B8: Fundamento Artículo 40 LDF
