Workbook

Sheet ARBOL DE PROBLEMAS
A1: ARBOL DE PROBLEMAS
A2: SISTEMA DE AGUA POTABLE Y ALCANTARILLADO DE DOCTOR MORA, GTO.
A5: NO SE GARANTIZA LA CALIDAD DEL AGUA POTABLE EN ALGUNAS CALLES DE CABECERA MUNICIPAL
A7: AGUA INSALUBRE | C7: PRESUPUESTO FAMILIAR EN DESEQUILIBRIO | E7: EFECTOS
A9: MOLESTIA CIUDADANA POR SUSPENSIÓN FRECUENTE DE AGUA POTABLE POR REPARACION DE FUGAS | C9: USO INADECUADO DEL LIQUIDO
A11: DEFICIENTE SUMINISTRO DE AGUA POTABLE Y FALTA DE CULTURA Y USO DEL AGUA POTABLE EN CABECERA MUNICIPAL | E11: PROBLEMA
A13: FUGAS FRECUENTES DE AGUA POTABLE EN CABECERA MUNICIPAL | C13: USO IRRACIONAL DEL AGUA
A15: EXISTENCIA DE TUBERIA DE ASBESTO EN MAL ESTADO EN ALGUNAS CALLES DE CABECERA MUNICIPAL | C15: FALTA FOMENTAR EL USO Y CULTURA DEL AGUA | E15: CAUSAS

Sheet ARBOL DE OBJETIVOS 
A1: ARBOL DE OBJETIVOS
A2: SISTEMA DE AGUA POTABLE Y ALCANTARILLADO DE DOCTOR MORA, GTO.
A5: SE GARANTIZA LA DISPONIBILIDAD Y CALIDAD DEL AGUA DE ACUERDO CON SUS DIFERENTES DESTINOS
A7: AGUA POTABLE MAS SALUBRE EN CABECERA MUNICIPAL | D7: PRESUPUESTO FAMILIAR EN EQUILIBRIO
A9: SATISFACCION CIUDADANA POR MENOR SUSPENCION DE SERVICIO DE AGUA | D9: CONSUMOS DE AGUA POTABLE RACIONALE | E9: FINES
A11: EFICIENTE CALIDAD DE SUMINISTRO DE AGUA POTABLE Y PRESENCIA DE CULTURA Y USO DEL AGUA EN CABECERA MUNICIPAL | E11: SOLUCIONES
A13: SE REDUCEN LAS FUGAS DE AGUA POTABLE EN CABECERA MUNICIPAL | D13: SE REALIZA PROGRAMA DE CULTURA Y USO DEL AGUA EN CABECERA MUNICIPAL
A15: REPOSICION DE TUBO DE ASBESTO CEMENTO POR TUBO PVC HIDRAULICO EN ALGUNAS CALLES DE CABECERA MUNICIPAL | D15: EXISTENCIA DE CULTRUA Y USO DE AGUA POTABLE | E15: MEDIOS

Sheet MIR
A1: Programa presupuestario | B1: Lógica Vertical | C1: Resumen Narrativo | D1: Eje o línea estratégica | E1: Objetivo | F1: Estrategia | G1: Indicador | H1: Fórmula de cálculo | I1: Tipo | J1: Dimensión | K1: Frecuencia de Medición | L1: Línea base | M1: Meta Programada | N1: Meta Modificada | O1: Meta alcanzada | P1: Avance/ Programado | Q1: Avance/ Modificado | R1: Medios de verificación | S1: Vinculacion interdepartamental | T1: Supuestos | U1: F | V1: FN | W1: SF | X1: CA | Y1: CP | Z1: CTG | AA1: UR | AB1: FF | AC1: CUENTA | AD1: FONDO | AE1: DESCRIPCION | AF1: Presupuesto aprobado | AG1: Aumento | AH1: Disminucion | AI1: Presupuesto Modificado | AJ1: Presupuesto Devengado | AK1: Devengado / Aprobado | AL1: Avance Devengado / Modificado
B2: Fin | C2: ='ARBOL DE OBJETIVOS '!A7 -> AGUA POTABLE MAS SALUBRE EN CABECERA MUNICIPAL | D2: DR. MORA, POR UN TERRITORIO ORDENADO Y EN ARMONIA CON EL MEDIO AMBIENTE | E2: LOGRAR UN MANEJO EFICIENTE DEL AGUA PARA GARANTIZAR LA COBERTURA Y CALIDAD DE LOS SERVICIOS DE AGUA POTABLE Y ALCANTARILLADO EN EL MUNICIPIO. | F2: FORTALECIENDO LA COBERTURA DE SERVICIOS DE AGUA, DRENAJE Y SANEAMIENTO, PROMOVIENDO EL USO RACIONAL DEL VITAL LIQUIDO PARA SU MEJOR APROVECHAMIENTO | G2: OBRAS REALIZADAS | H2: No. OBRAS REALIZADAS/No. DE OBRAS PROGRAMADAS*100 | I2: DESEMPEÑO | J2: MUNICIPAL | K2: TRIMESTRAL | L2: PROGRAMA DE GOBIERNO | M2: REPOSISION DE TUBO DE AGUA DE ASBESTO CEMENTO POR TUBO DE PVC HIDRAULICON CABECERA MPAL, DIFUNDIR CULTURA Y CIUDADO DEL AGUA EN CABECERA MUNICIPAL | P2: 1 | R2: FOTOGRAFIAS. Y MAPA CATASTRAL | S2: SAPADM | T2: LAS OBRAS Y ACCIONES CONCLUYEN DE ACUERDO A LO PROGRAMADO
B3: Propósito | C3: MEJORAR INFRAESTRUCTURA HIDRAULICA EN CALLES DE CABECERA MUNICIPAL , CULTURA DE USO MODERADO DE AGUA POTABLE IMPLEMENTADA EN CABECERA MUNICIPAL | D3: DR. MORA, POR UN TERRITORIO ORDENADO Y EN ARMONIA CON EL MEDIO AMBIENTE | E3: LOGRAR UN MANEJO EFICIENTE DEL AGUA PRA GARANTIZAR LA COBERTURA Y CALIDAD DE LOS SERVICIOS DE AGUA POTABLE Y ALCANTARILLADO EN EL MUNICIPIO. | F3: FORTALECIENDO LA COBERTURA DE SERVICIOS DE AGUA, DRENAJE Y SANEAMIENTO, PROMOVIENDO EL USO RACIONAL DEL VITAL LIQUIDO PARA SU MEJOR APROVECHAMIENTO | G3: OBRAS REALIZADAS | H3: No. DE OBRAS REALIZADAS/No. DE OBRAS PROGRAMADAS)*100 | I3: DESEMPEÑO | J3: MUNICIPAL | K3: TRIMESTRAL | L3: PROGRAMA DE GOBIERNO | M3: REPOSISION DE 400 MTS. DE TUBO DE AGUA DE ASBESTO CEMENTO POR TUBO DE PVC HIDRAULICON CABECERA MPAL, DIFUNDIR CULTURA Y CIUDADO DEL AGUA EN CABECERA MUNICIPAL | P3: 1 | R3: PROYECTO VALIDADO | S3: SAPADM | T3: LAS Y LOS HABITANTES DEL MUNICIPIO CUENTAN CON UN ENTORNO MAS SALUDABLE Y EN ARMONIA CON EL MEDIO AMBIENTE,
B4: Componente 1 | C4: REPOSICION DE TUBO HIDRAULICO EN LAS CALLES QUE CUENTA CON TUBO DE ASBESTO CEMENTO EN LINEAS DE AGUA POTABLE DE CABECERA MUNICIPAL PARA EFICIENTAR EL SUMINISTRO | D4: DR. MORA, POR UN TERRITORIO ORDENADO Y EN ARMONIA CON EL MEDIO AMBIENTE | E4: GARANTIZAR LA DISPONIBILIDAD Y CALIDAD DEL AGUA DE ACUERDO CON SUS DIFERENTES DESTINOS | F4: FORTALECIENDO LA COBERTURA DE SERVICIOS DE AGUA, DRENAJE Y SANEAMIENTO, PROMOVIENDO EL USO RACIONAL DEL VITAL LIQUIDO PARA SU MEJOR APROVECHAMIENTO | G4: OBRAS REALIZADAS | H4: No. DE OBRAS REALIZADAS/No. DE OBRAS PROGRAMADAS) | I4: DESEMPEÑO | J4: MUNICIPAL | K4: TRIMESTRAL | L4: PROGRAMA DE GOBIERNO | M4: REPOSICION DE TUBO DE ALBAÑAL POR TUBO DE PVC | P4: 1 | R4: FOTOGRAFIAS | S4: SAPADM | T4: REZAGO DE RED HIDRAULICO ABATIDO
B5: Actividad 1 | C5: PROYECTO EJECUTIVO PARA CAMBIO DE TUBERIA DE ASBESTO POR PVC HIDRAULICO EN CALLES DE CABECERA MUNICIPAL | D5: DR. MORA, POR UN TERRITORIO ORDENADO Y EN ARMONIA CON EL MEDIO AMBIENTE | E5: LOGRAR UN MANEJO EFICIENTE DEL AGUA PRA GARANTIZAR LA OBERTURA Y CALIDAD DE LOS SERVICIOS DE AGUA POTABLE Y ALCANTARILLADO EN EL MUNICIPIO. | F5: FORTALECIENDO LA COBERTURA DE SERVICIOS DE AGUA, DRENAJE Y SANEAMIENTO, PROMOVIENDO EL USO RACIONAL DEL VITAL LIQUIDO PARA SU MEJOR APROVECHAMIENTO | G5: OBRAS PROGRAMADAS | H5: NUMERO DE PROYECTOS REALIZADOS/NUMERO DE PROYECTOS PROGRAMADOS*100 | I5: DESEMPEÑO | J5: MUNICIPAL | K5: TRIMESTRAL | L5: PROGRAMA DE GOBIERNO | M5: UN PROYECTO EJECUTIVO | P5: 1 | R5: FOTOGRAFIAS | S5: SAPADM
B6: Actividad 1 | C6: REPOSICION DE TUBO HIDRAULICO EN LAS CALLES QUE CUENTA CON TUBO DE ALBAÑAL EN LINEAS DE AGUA POTABLE DE CABECERA MUNICIPAL PARA EFICIENTAR EL SUMINISTRO | D6: DR. MORA, POR UN TERRITORIO ORDENADO Y EN ARMONIA CON EL MEDIO AMBIENTE | E6: LOGRAR UN MANEJO EFICIENTE DEL AGUA PRA GARANTIZAR LA OBERTURA Y CALIDAD DE LOS SERVICIOS DE AGUA POTABLE Y ALCANTARILLADO EN EL MUNICIPIO. | F6: FORTALECIENDO LA COBERTURA DE SERVICIOS DE AGUA, DRENAJE Y SANEAMIENTO, PROMOVIENDO EL USO RACIONAL DEL VITAL LIQUIDO PARA SU MEJOR APROVECHAMIENTO | G6: OBRAS PROGRAMADAS | H6: NUMERO DE OBRAS REALIZADAS/NUMERO DE OBRAS PROGRAMADAS*100 | I6: DESEMPEÑO | J6: MUNICIPAL | K6: TRIMESTRAL | L6: PROGRAMA DE GOBIERNO | M6: REPOSICION DE 400.00 MTS DE TUBO DE ALBAÑAL CEMENTO POR TUBO PVC HIDRAULICO EN CABECERA MUNICIPAL | P6: 1 | R6: FOTOGRAFIAS | S6: SAPADM | T6: SE REALIZO LA REPOSICION DE TUBO DE ALBAÑAL CEMENTO POR TUBO PVC HIDRAULICO EN CABECERA MUNICIPAL
B7: COMPONENTE 2 | C7: IMPLEMENTAR UNA CULTURA Y USO DE AGUA A LOS CIUDADANOS DE CABECERA MPAL. IMPLEMENTADA | D7: DR. MORA, POR UN TERRITORIO ORDENADO Y EN ARMONIA CON EL MEDIO AMBIENTE | E7: PROMOVER LA CULTURA DEL USO SUSTENTABLE DEL AGUA | F7: USO RACIONAL DEL AGUA | G7: IMPLEMENTACION DEL ESPACIO CULTURA Y USO DEL AGUA EN MPIO | H7: TOTAL DE ACTIVIDADES REALIZADAS/TOTAL DE ACTIVIDADES PROGRAMADAS)*100 | I7: DESEMPEÑO | J7: MUNICIPAL | K7: TRIMESTRAL | L7: PROGRAMA DE GOBIERNO | M7: IMPRESIÓN EN RECIBOS DE COBRO ALUSIVOS EN CULTURA Y USO DEL AGUA | P7: 1 | R7: FOTOGRAFIAS Y LISTA DE ASISTENCIA | S7: SAPADM | T7: SE DIO A CONOCER LA IMPORTANCIA DE LA CULTURA Y USO DEL AGUA
B8: ACTIVIDAD 1 | C8: REALIZAR IMPRESIÓNES EN RECIBOS DE COBROS PARA FOMENTAR EL USO Y CULTURA DEL AGUA | D8: DR. MORA, POR UN TERRITORIO ORDENADO Y EN ARMONIA CON EL MEDIO AMBIENTE | E8: PROMOVER LA CULTURA DEL USO SUSTENTABLE DEL AGUA | F8: FORTALECIENDO LA COBERTURA DE SERVICIOS DE AGUA, DRENAJE Y SANEAMIENTO, PROMOVIENDO EL USO RACIONAL DEL VITAL LIQUIDO PARA SU MEJOR APROVECHAMIENTO | G8: 6,000 IMPRESIONES | H8: No. TOTAL DE RECIBOS REALIZADOS/No. TOTAL DE RECIBOS PROGRAMADOS)*100 | I8: DESEMPEÑO | J8: MUNICIPAL | K8: TRIMESTRAL | L8: PROGRAMA DE GOBIERNO | M8: IMPRESIÓN DE 12000 RECIBOS DE COBRO ALUSIVOS EN CULTURA Y USO DEL AGUA | P8: 1 | R8: FOTOGRAFIAS DE RECIBOS . | S8: SAPADM | T8: SE REALIZO LA IMPRESIÓN EN RECIBOS DE COBROS PARA USO Y CULTURA DEL AGUA
B9: ACTIVIDAD 2 | C9: REALIZAR REUNIONES DE CULTURA Y USO DEL AGUA POTABLE | D9: DR. MORA, POR UN TERRITORIO ORDENADO Y EN ARMONIA CON EL MEDIO AMBIENTE | E9: PROMOVER LA CULTURA DEL USO SUSTENTABLE DEL AGUA | F9: FORTALECIENDO LA COBERTURA DE SERVICIOS DE AGUA, DRENAJE Y SANEAMIENTO, PROMOVIENDO EL USO RACIONAL DEL VITAL LIQUIDO PARA SU MEJOR APROVECHAMIENTO | G9: 14 REUNIONES | H9: TOTAL DE REUNIONES REALIZADAS/TOTAL DE REUNIONES PROGRAMADAS)*100 | I9: DESEMPEÑO | J9: MUNICIPAL | K9: TRIMESTRAL | L9: PROGRAMA DE GOBIERNO | M9: 14 REUNIONES | P9: 1 | R9: FOTOGRAFIAS Y LISTA DE ASISTENCIA | S9: SAPADM | T9: POCA PARTICIPACION CIUDADANA
B10: ACTIVIDAD 3 | C10: REALIZAR UN EVENTO DEL DIA MUNDIAL DEL AGUA | D10: DR. MORA, POR UN TERRITORIO ORDENADO Y EN ARMONIA CON EL MEDIO AMBIENTE | E10: PROMOVER LA CULTURA DEL USO SUSTENTABLE DEL AGUA | F10: FORTALECIENDO LA COBERTURA DE SERVICIOS DE AGUA, DRENAJE Y SANEAMIENTO, PROMOVIENDO EL USO RACIONAL DEL VITAL LIQUIDO PARA SU MEJOR APROVECHAMIENTO | G10: UN EVENTO | H10: TOTAL DE EVENTOS REALIZADOS/TOTAL DE EVENTOS PROGRAMADOS)*100 | I10: DESEMPEÑO | J10: MUNICIPAL | K10: TRIMESTRAL | L10: PROGRAMA DE GOBIERNO | M10: UN EVENTO | P10: 1 | R10: FOTOGRAFIAS Y LISTA DE ASISTENCIA | S10: SAPADM | T10: SE REALIZO UN EVENTO DEL DIA MUNDIAL DEL AGUA
B11: Componente 3 | C11: GASTOS ADMINISTRATIVOS PARA LA OPERACIÓN DEL SAPADM UTILIZADOS | D11: DR. MORA, POR UN TERRITORIO ORDENADO Y EN ARMONIA CON EL MEDIO AMBIENTE | E11: GARANTIZAR LA DISPONIBILIDAD Y CALIDAD DEL AGUA DE ACUERDO CON SUS DIFERENTES DESTINOS | F11: FORTALECIENDO LA COBERTURA DE SERVICIOS DE AGUA, DRENAJE Y SANEAMIENTO, PROMOVIENDO EL USO RACIONAL DEL VITAL LIQUIDO PARA SU MEJOR APROVECHAMIENTO | G11: CUMPLIMIENTO DE METAS DEL PROGRAMA DE GOBIERNO MUNICIPAL | H11: CUMPLIMIENTO DE METAS DEL PROGRAMA DE GOBIERNO MUNICIPAL | J11: MUNICIPAL | L11: PROGRAMA DE GOBIERNO | M11: CUMPLIMIENTO DE METAS | P11: 1 | R11: CONTROL PRESUPUESTAL | S11: SAPADM | T11: Capital humano con mejor fluidez de trabajo
C12: UR 1 | AF12: =AF13+AF22+AF35+AF51 -> 1530869.5
B13: Actividad 1.1 | C13: SERVICIOS PERSONALES | D13: DR. MORA, POR UN TERRITORIO ORDENADO Y EN ARMONIA CON EL MEDIO AMBIENTE | E13: GARANTIZAR LA DISPONIBILIDAD Y CALIDAD DEL AGUA DE ACUERDO CON SUS DIFERENTES DESTINOS | F13: FORTALECIENDO LA COBERTURA DE SERVICIOS DE AGUA, DRENAJE Y SANEAMIENTO, PROMOVIENDO EL USO RACIONAL DEL VITAL LIQUIDO PARA SU MEJOR APROVECHAMIENTO | G13: CUMPLIMIENTO DE METAS DEL PROGRAMA DE GOBIERNO MUNICIPAL | H13: NUMEROI DE PROYECTOS REALIZADOS / NUMERO DE PROYECTOS PROGRAMADOS *100 | I13: DESEMPEÑO | J13: MUNICIPAL | K13: TRIMESTRAL | L13: PROGRAMA DE GOBIERNO | M13: CUMPLIMIENTO DE METAS | P13: 1 | R13: CONTROL PRESUPUESTAL | S13: SAPADM | T13: Capital humano con mejor fluidez de trabajo | U13: 2 | V13: 2 | W13: 3 | X13: 6 | Y13: E | Z13: 1 | AA13: 1 | AB13: 4 | AC13: 1000 | AE13: SERVICIOS PERSONALES | AF13: =AF14+AF15+AF16+AF18+AF19+AF20+AF21+AF17 -> 1056942.1 | AN13: =AM13-AM11 -> 0 | AO13: =AM13-AM11 -> 0
B14: 1.1.1 | C14: SUELDOS BASE | I14: DESEMPEÑO | J14: MUNICIPAL | K14: TRIMESTRAL | L14: PROGRAMA DE GOBIERNO | M14: CUMPLIMIENTO DE METAS | P14: 1 | R14: CONTROL PRESUPUESTAL | U14: 2 | V14: 2 | W14: 3 | X14: 6 | Y14: E | Z14: 1 | AA14: 1 | AB14: 4 | AC14: 1131 | AE14: SUELDOS BASE | AF14: 754640.22
B15: 1.1.2 | C15: ANTIGUEDAD | I15: DESEMPEÑO | J15: MUNICIPAL | K15: TRIMESTRAL | L15: PROGRAMA DE GOBIERNO | M15: CUMPLIMIENTO DE METAS | P15: 1 | R15: CONTROL PRESUPUESTAL | U15: 2 | V15: 2 | W15: 3 | X15: 6 | Y15: E | Z15: 1 | AA15: 1 | AB15: 4 | AC15: 1312 | AE15: ANTIGUEDAD | AF15: 24339.5
B16: 1.1.3 | C16: PRIMA VACACIONAL | I16: DESEMPEÑO | J16: MUNICIPAL | K16: TRIMESTRAL | L16: PROGRAMA DE GOBIERNO | M16: CUMPLIMIENTO DE METAS | P16: 1 | R16: CONTROL PRESUPUESTAL | U16: 2 | V16: 2 | W16: 3 | X16: 6 | Y16: E | Z16: 1 | AA16: 1 | AB16: 4 | AC16: 1321 | AE16: PRIMA VACACIONAL | AF16: 62025.22
B17: 1.1.4 | C17: PRIMA DOMINICAL | I17: DESEMPEÑO | J17: MUNICIPAL | K17: TRIMESTRAL | L17: PROGRAMA DE GOBIERNO | M17: CUMPLIMIENTO DE METAS | P17: 1 | R17: CONTROL PRESUPUESTAL | U17: 2 | V17: 2 | W17: 3 | X17: 6 | Y17: E | Z17: 1 | AA17: 1 | AB17: 4 | AC17: 1322 | AE17: PRIMA DOMINICAL | AF17: 5202.52
B18: 1.1.5 | C18: GRATIFICACION DE FIN DE AÑO | I18: DESEMPEÑO | J18: MUNICIPAL | K18: TRIMESTRAL | L18: PROGRAMA DE GOBIERNO | M18: CUMPLIMIENTO DE METAS | P18: 1 | R18: CONTROL PRESUPUESTAL | U18: 2 | V18: 2 | W18: 3 | X18: 6 | Y18: E | Z18: 1 | AA18: 1 | AB18: 4 | AC18: 1323 | AE18: GRATIFICACION DE FIN DE AÑO | AF18: 93037.83
B19: 1.1.6 | C19: REMUNERACION POR HORAS EXTRAORDINARIAS | I19: DESEMPEÑO | J19: MUNICIPAL | K19: TRIMESTRAL | L19: PROGRAMA DE GOBIERNO | M19: CUMPLIMIENTO DE METAS | P19: 1 | R19: CONTROL PRESUPUESTAL | U19: 2 | V19: 2 | W19: 3 | X19: 6 | Y19: E | Z19: 1 | AA19: 1 | AB19: 4 | AC19: 1331 | AE19: REMUNERACION POR HORAS EXTRAORDINARIAS | AF19: 6848.1
B20: 1.1.7 | C20: LIQUIDACIONES POR INDEMNIZACION | I20: DESEMPEÑO | J20: MUNICIPAL | K20: TRIMESTRAL | L20: PROGRAMA DE GOBIERNO | M20: CUMPLIMIENTO DE METAS | P20: 1 | R20: CONTROL PRESUPUESTAL | U20: 2 | V20: 2 | W20: 3 | X20: 6 | Y20: E | Z20: 1 | AA20: 1 | AB20: 4 | AC20: 1522 | AE20: LIQUIDACIONES POR INDEMNIZACION | AF20: 60848.76
B21: 1.1.8 | C21: REEMBOLSO GASTOS MEDICOS | I21: DESEMPEÑO | J21: MUNICIPAL | K21: TRIMESTRAL | L21: PROGRAMA DE GOBIERNO | M21: CUMPLIMIENTO DE METAS | P21: 1 | R21: CONTROL PRESUPUESTAL | U21: 2 | V21: 2 | W21: 3 | X21: 6 | Y21: E | Z21: 1 | AA21: 1 | AB21: 4 | AC21: 1541 | AE21: REEMBOLSO GASTOS MEDICOS | AF21: 50000
B22: Actividad 1.2 | C22: MATERIALES Y SUMINISTROS | I22: DESEMPEÑO | J22: MUNICIPAL | K22: TRIMESTRAL | L22: PROGRAMA DE GOBIERNO | M22: CUMPLIMIENTO DE METAS | P22: 1 | R22: CONTROL PRESUPUESTAL | U22: 2 | V22: 2 | W22: 3 | X22: 6 | Y22: E | Z22: 1 | AA22: 1 | AB22: 4 | AC22: 2000 | AE22: MATERIALES Y SUMINISTROS | AF22: =SUM(AF23:AF34) -> 140505.18
B23: 1.2.1 | C23: MATERIALES Y UTILES DE OFICINA | I23: DESEMPEÑO | J23: MUNICIPAL | K23: TRIMESTRAL | L23: PROGRAMA DE GOBIERNO | M23: CUMPLIMIENTO DE METAS | P23: 1 | R23: CONTROL PRESUPUESTAL | U23: 2 | V23: 2 | W23: 3 | X23: 6 | Y23: E | Z23: 1 | AA23: 1 | AB23: 4 | AC23: 2111 | AE23: MATERIALES, UTILES Y EQUIPOS MENORES DE OFICINA | AF23: 20635.73
B24: 1.2.2 | C24: MATERIALES Y UTILES DE IMPRESIÓN | I24: DESEMPEÑO | J24: MUNICIPAL | K24: TRIMESTRAL | L24: PROGRAMA DE GOBIERNO | M24: CUMPLIMIENTO DE METAS | P24: 1 | R24: CONTROL PRESUPUESTAL | U24: 2 | V24: 2 | W24: 3 | X24: 6 | Y24: E | Z24: 1 | AA24: 1 | AB24: 4 | AC24: 2121 | AE24: MATERIALES Y UTILES DE IMPRESIÓN Y REPRODUCCION | AF24: 2566
B25: 1.2.3 | C25: MATERIALES Y UTILES DE TECNOLOGIA DE LA INFORMACION Y COMUNICACION | I25: DESEMPEÑO | J25: MUNICIPAL | K25: TRIMESTRAL | L25: PROGRAMA DE GOBIERNO | M25: CUMPLIMIENTO DE METAS | P25: 1 | R25: CONTROL PRESUPUESTAL | U25: 2 | V25: 2 | W25: 3 | X25: 6 | Y25: E | Z25: 1 | AA25: 1 | AB25: 4 | AC25: 2141 | AE25: MATERIALES, UTILES Y EQUIPOS MENORES DE LA TECNOLOGIA DE LA INFORMACION Y COMUNICACIONES | AF25: 8163.8
B26: 1.2.4 | C26: MATERIALES, UTILES Y EQUIPOS MENORES DE LA TECNOLOGIA | I26: DESEMPEÑO | J26: MUNICIPAL | K26: TRIMESTRAL | L26: PROGRAMA DE GOBIERNO | M26: CUMPLIMIENTO DE METAS | P26: 1 | R26: CONTROL PRESUPUESTAL | U26: 2 | V26: 2 | W26: 3 | X26: 6 | Y26: E | Z26: 1 | AA26: 1 | AB26: 4 | AC26: 2142 | AE26: MATERIALES, UTILES Y EQUIPOS MENORES DE LA TECNOLOGIA DE LA INFORMACION Y COMUNICACIONES | AF26: 6000
B27: 1.2.5 | C27: MATERIALES DE LIMPIEZA | I27: DESEMPEÑO | J27: MUNICIPAL | K27: TRIMESTRAL | L27: PROGRAMA DE GOBIERNO | M27: CUMPLIMIENTO DE METAS | P27: 1 | R27: CONTROL PRESUPUESTAL | U27: 2 | V27: 2 | W27: 3 | X27: 6 | Y27: E | Z27: 1 | AA27: 1 | AB27: 4 | AC27: 2161 | AE27: MATERIALES DE LIMPIEZA | AF27: 4323.7
B28: 1.2.6 | C28: PRODUCTOS ALIMENTICIOS PARA EL PERSONAL | I28: DESEMPEÑO | J28: MUNICIPAL | K28: TRIMESTRAL | L28: PROGRAMA DE GOBIERNO | M28: CUMPLIMIENTO DE METAS | P28: 1 | R28: CONTROL PRESUPUESTAL | U28: 2 | V28: 2 | W28: 3 | X28: 6 | Y28: E | Z28: 1 | AA28: 1 | AB28: 4 | AC28: 2212 | AE28: PRODUCTOS ALIMENTICIOS PARA EL PERSONAL | AF28: 10612
B29: 1.2.7 | C29: OTROS MATERIALES Y ART. DE CONSTRUCCION Y REPARACION | I29: DESEMPEÑO | J29: MUNICIPAL | K29: TRIMESTRAL | L29: PROGRAMA DE GOBIERNO | M29: CUMPLIMIENTO DE METAS | P29: 1 | R29: CONTROL PRESUPUESTAL | Y29: E | Z29: 1 | AA29: 1 | AB29: 4 | AC29: 2491-1 | AE29: OTROS MATERIALES Y ART. DE CONSTRUCCION Y REPARACION | AF29: 7000
B30: 1.2.8 | C30: COMBUSTIBLES, LUBRICANTES Y ADHITIVOS | I30: DESEMPEÑO | J30: MUNICIPAL | K30: TRIMESTRAL | L30: PROGRAMA DE GOBIERNO | M30: CUMPLIMIENTO DE METAS | P30: 1 | R30: CONTROL PRESUPUESTAL | U30: 2 | V30: 2 | W30: 3 | X30: 6 | Y30: E | Z30: 1 | AA30: 1 | AB30: 4 | AC30: 2612 | AE30: COMBUSTIBLES, LUBRICANTES Y ADHITIVOS | AF30: 29873.47
B31: 1.2.9 | C31: VESTUARIOS Y UNIFORMES | I31: DESEMPEÑO | J31: MUNICIPAL | K31: TRIMESTRAL | L31: PROGRAMA DE GOBIERNO | M31: CUMPLIMIENTO DE METAS | P31: 1 | R31: CONTROL PRESUPUESTAL | U31: 2 | V31: 2 | W31: 3 | X31: 6 | Y31: E | Z31: 1 | AA31: 1 | AB31: 4 | AC31: 2711 | AE31: VESTUARIOS Y UNIFORMES | AF31: 25000
B32: 1.2.10 | C32: REFACCIONES Y ACCESORIOS MENOR DE EQUIPO DE COMPUTO | I32: DESEMPEÑO | J32: MUNICIPAL | K32: TRIMESTRAL | L32: PROGRAMA DE GOBIERNO | M32: CUMPLIMIENTO DE METAS | P32: 1 | R32: CONTROL PRESUPUESTAL | U32: 2 | V32: 2 | W32: 3 | X32: 6 | Y32: E | Z32: 1 | AA32: 1 | AB32: 4 | AC32: 2911 | AE32: HERRAMIENTAS MENORES | AF32: 2000
B33: 1.2.11 | C33: REFACCIONES Y ACCESORIOS MENORES DE EQUIPO DE TRANSPORTE | I33: DESEMPEÑO | J33: MUNICIPAL | K33: TRIMESTRAL | L33: PROGRAMA DE GOBIERNO | M33: CUMPLIMIENTO DE METAS | P33: 1 | R33: CONTROL PRESUPUESTAL | U33: 2 | V33: 2 | W33: 3 | X33: 6 | Y33: E | Z33: 1 | AA33: 1 | AB33: 4 | AC33: 2941 | AE33: REFACCIONES Y ACCESORIOS MENOR DE EQUIPO DE COMPUTO | AF33: 9330.48
B34: 1.2.12 | C34: REFACCIONES Y ACCESORIOS MENORES DE EQUIPO DE TRANSPORTE | I34: DESEMPEÑO | J34: MUNICIPAL | K34: TRIMESTRAL | L34: PROGRAMA DE GOBIERNO | M34: CUMPLIMIENTO DE METAS | P34: 1 | R34: CONTROL PRESUPUESTAL | U34: 2 | V34: 2 | W34: 3 | X34: 6 | Y34: E | Z34: 1 | AA34: 1 | AB34: 4 | AC34: 2961 | AE34: REFACCIONES Y ACCESORIOS MENORES DE EQUIPO DE TRANSPORTE | AF34: 15000
B35: ACTIVIDAD 1.3 | C35: SERVICIOS GENERALES | I35: DESEMPEÑO | J35: MUNICIPAL | K35: TRIMESTRAL | L35: PROGRAMA DE GOBIERNO | M35: CUMPLIMIENTO DE METAS | P35: 1 | R35: CONTROL PRESUPUESTAL | U35: 2 | V35: 2 | W35: 3 | X35: 6 | Y35: E | Z35: 1 | AA35: 1 | AB35: 4 | AC35: 3000 | AE35: SERVICIOS GENERALES | AF35: =SUM(AF36:AF50) -> 310862.85
B36: 1.3.1 | C36: TELEFONICO CELULAR | I36: DESEMPEÑO | J36: MUNICIPAL | K36: TRIMESTRAL | L36: PROGRAMA DE GOBIERNO | M36: CUMPLIMIENTO DE METAS | P36: 1 | R36: CONTROL PRESUPUESTAL | U36: 2 | V36: 2 | W36: 3 | X36: 6 | Y36: E | Z36: 1 | AA36: 1 | AB36: 4 | AC36: 3151 | AE36: TELEFONICO CELULAR | AF36: 7500
B37: 1.3.2 | C37: SERVICIOS CONTABLES | I37: DESEMPEÑO | J37: MUNICIPAL | K37: TRIMESTRAL | L37: PROGRAMA DE GOBIERNO | M37: CUMPLIMIENTO DE METAS | P37: 1 | R37: CONTROL PRESUPUESTAL | AC37: 3171 | AE37: SERVICIOS DE ACCESO A INTERNET | AF37: 6000
B38: 1.3.3 | C38: SERVICIOS DE CONSULTORIA ADMINISTRATIVA, PROCESOS, TECNICA Y EN TECNOLOGIAS DE LA INFORMACION (MODIFICACIONES DE LOS SISTEMAS) | I38: DESEMPEÑO | J38: MUNICIPAL | K38: TRIMESTRAL | L38: PROGRAMA DE GOBIERNO | M38: CUMPLIMIENTO DE METAS | P38: 1 | R38: CONTROL PRESUPUESTAL | U38: 2 | V38: 2 | W38: 3 | X38: 6 | Y38: E | Z38: 1 | AA38: 1 | AB38: 4 | AC38: 3311 | AE38: SERVICIOS CONTABLES | AF38: 145333.2
B39: 1.3.4 | C39: SEGUROS DE BIENES PATRIMONIALES | I39: DESEMPEÑO | J39: MUNICIPAL | K39: TRIMESTRAL | L39: PROGRAMA DE GOBIERNO | M39: CUMPLIMIENTO DE METAS | P39: 1 | R39: CONTROL PRESUPUESTAL | U39: 2 | V39: 2 | W39: 3 | X39: 6 | Y39: E | Z39: 1 | AA39: 1 | AB39: 4 | AC39: 3331 | AE39: SERVICIOS LEGALES, DE CONTABILIDAD, AUDITORIA Y RELACIONADOS | AF39: 38824.9
B40: 1.3.5 | C40: SERVICIOS FINANCIEROS, BANCARI | I40: DESEMPEÑO | J40: MUNICIPAL | K40: TRIMESTRAL | L40: PROGRAMA DE GOBIERNO | M40: CUMPLIMIENTO DE METAS | P40: 1 | R40: CONTROL PRESUPUESTAL | Y40: E | Z40: 1 | AA40: 1 | AB40: 4 | AC40: 3451 | AE40: SEGURO DE BIENES PATRIMONIALES | AF40: 4203.2
...

Sheet CALENDARIO DE ACTIVIDADES
A1: CALENDARIO DE COMPONENTES Y ACTIVIDADES 2025 SAPADM
A3: COMPONENTE 1
A4: =MIR!C4 -> REPOSICION DE TUBO HIDRAULICO EN LAS CALLES QUE CUENTA CON TUBO DE ASBESTO CEMENTO EN LINEAS DE AGUA POTABLE DE CABECERA MUNICIPAL PARA EFICIENTAR EL SUMINISTRO
A5: UR | C5: ACTIVIDAD | D5: ENERO | E5: AVANCE | F5: FEBRERO | G5: AVANCE | H5: MARZO | I5: AVANCE | J5: ABRIL | K5: AVANCE | L5: MAYO | M5: AVANCE | N5: JUNIO | O5: AVANCE | P5: JULIO | Q5: AVANCE | R5: AGOSTO | S5: AVANCE | T5: SEPTIEMBRE | U5: AVANCE | V5: OCTUBRE | W5: AVANCE | X5: NOVIEMBRE | Y5: AVANCE | Z5: DICIEMBRE | AA5: AVANCE
A6: UR 2 6131 | C6: =MIR!C6 -> REPOSICION DE TUBO HIDRAULICO EN LAS CALLES QUE CUENTA CON TUBO DE ALBAÑAL EN LINEAS DE AGUA POTABLE DE CABECERA MUNICIPAL PARA EFICIENTAR EL SUMINISTRO | L6: 200 MTS. REPOSICION DE TUBO DE ASBESTO CEMENTO POR PVC HIDRAULICO | P6: 200 MTS. REPOSICION DE TUBO DE ASBESTO CEMENTO POR PVC HIDRAULICO
A7: COMPONENTE 2
A8: =MIR!#REF! -> #REF!
A9: UR | C9: ACTIVIDAD | D9: ENERO | E9: AVANCE | F9: FEBRERO | G9: AVANCE | H9: MARZO | I9: AVANCE | J9: ABRIL | K9: AVANCE | L9: MAYO | M9: AVANCE | N9: JUNIO | O9: AVANCE | P9: JULIO | Q9: AVANCE | R9: AGOSTO | S9: AVANCE | T9: SEPTIEMBRE | U9: AVANCE | V9: OCTUBRE | W9: AVANCE | X9: NOVIEMBRE | Y9: AVANCE | Z9: DICIEMBRE | AA9: AVANCE
A10: 2 6132 $***** | C10: GESTIONAR Y TRABAJAR PARA CUBRIR EL REZAGO DE INFRAESTRUCTURA DE DRENAJE EN CABECERA MPAL. | J10: 100 %AMPLIACION DE 80 MTS. CALLE LAS FLORES $ 102,000.00
A11: COMPONENTE 2
A12: =MIR!C7 -> IMPLEMENTAR UNA CULTURA Y USO DE AGUA A LOS CIUDADANOS DE CABECERA MPAL. IMPLEMENTADA
A13: UR | C13: ACTIVIDAD | D13: ENERO | E13: AVANCE | F13: FEBRERO | G13: AVANCE | H13: MARZO | I13: AVANCE | J13: ABRIL | K13: AVANCE | L13: MAYO | M13: AVANCE | N13: JUNIO | O13: AVANCE | P13: JULIO | Q13: AVANCE | R13: AGOSTO | S13: AVANCE | T13: SEPTIEMBRE | U13: AVANCE | V13: OCTUBRE | W13: AVANCE | X13: NOVIEMBRE | Y13: AVANCE | Z13: DICIEMBRE | AA13: AVANCE
A14: UR 1 2121 | C14: IMPLEMENTAR UNA CULTURA Y USO DE AGUA A LOS CIUDADANOS DE CABECERA MPAL. | D14: IMPRESIÓN DE 1000 RECIBOS ALUSIVOS A CULTURA Y USO DEL AGUA | F14: IMPRESIÓN DE 1000 RECIBOS ALUSIVOS A CULTURA Y USO DEL AGUA | H14: IMPRESIÓN DE 1000 RECIBOS ALUSIVOS A CULTURA Y USO DEL AGUA | J14: IMPRESIÓN DE 1000 RECIBOS ALUSIVOS A CULTURA Y USO DEL AGUA | L14: IMPRESIÓN DE 1000 RECIBOS ALUSIVOS A CULTURA Y USO DEL AGUA | N14: IMPRESIÓN DE 1000 RECIBOS ALUSIVOS A CULTURA Y USO DEL AGUA | P14: IMPRESIÓN DE 1000 RECIBOS ALUSIVOS A CULTURA Y USO DEL AGUA | R14: IMPRESIÓN DE 1000 RECIBOS ALUSIVOS A CULTURA Y USO DEL AGUA | T14: IMPRESIÓN DE 1000 RECIBOS ALUSIVOS A CULTURA Y USO DEL AGUA | V14: IMPRESIÓN DE 1000 RECIBOS ALUSIVOS A CULTURA Y USO DEL AGUA | X14: IMPRESIÓN DE 1000 RECIBOS ALUSIVOS A CULTURA Y USO DEL AGUA | Z14: IMPRESIÓN DE 1000 RECIBOS ALUSIVOS A CULTURA Y USO DEL AGUA
C15: PLATICAS SOBRE CULTURA Y USO DEL AGUA A NIÑOS, JOVENES Y ADULTOS. | D15: 1 PLATICA A NIÑOS Y JOVENES Y 1 PLATICA A ADULTOS | F15: 1 PLATICA A NIÑOS Y JOVENES Y 1 PLATICA A ADULTOS | H15: 1 PLATICA A NIÑOS Y JOVENES Y 1 PLATICA A ADULTOS | L15: 1 PLATICA A NIÑOS Y JOVENES Y 1 PLATICA A ADULTOS | N15: 1 PLATICA A NIÑOS Y JOVENES Y 1 PLATICA A ADULTOS | T15: 1 PLATICA A NIÑOS Y JOVENES Y 1 PLATICA A ADULTOS | V15: 1 PLATICA A NIÑOS Y JOVENES Y 1 PLATICA A ADULTOS | X15: 1 PLATICA A NIÑOS Y JOVENES Y 1 PLATICA A ADULTOS
A16: UR1 3821 | C16: EVENTO | H16: UN EVENTO DE CULTURA Y USO DEL AGUA
A17: COMPONENTE 3
A18: =MIR!C11 -> GASTOS ADMINISTRATIVOS PARA LA OPERACIÓN DEL SAPADM UTILIZADOS
A19: UR | C19: ACTIVIDAD | D19: ENERO | E19: AVANCE | F19: FEBRERO | G19: AVANCE | H19: MARZO | I19: AVANCE | J19: ABRIL | K19: AVANCE | L19: MAYO | M19: AVANCE | N19: JUNIO | O19: AVANCE | P19: JULIO | Q19: AVANCE | R19: AGOSTO | S19: AVANCE | T19: SEPTIEMBRE | U19: AVANCE | V19: OCTUBRE | W19: AVANVCE | X19: NOVIEMBRE | Y19: AVANCE | Z19: DICIEMBRE | AA19: AVANCE
A20: UR1 | B20: ATENCION A CIUDADANOS Y CIUDADANAS POR COBROS | D20: 2100 | F20: 2100 | H20: 2100 | J20: 2100 | L20: 2100 | N20: 2100 | P20: 2100 | R20: 2100 | T20: 2100 | V20: 2100 | X20: 2100 | Z20: 2100
B21: ATENCION A CIUDADANOS Y CIUDADANAS POR REPORTES | D21: 35 | F21: 35 | H21: 35 | J21: 35 | L21: 35 | N21: 35 | P21: 35 | R21: 35 | T21: 35 | V21: 35 | X21: 35 | Z21: 35
B22: TOMA DE MUESTRA DE CLORADO | D22: 12 | F22: 12 | H22: 12 | J22: 12 | L22: 12 | N22: 12 | P22: 12 | R22: 12 | T22: 12 | V22: 12 | X22: 12 | Z22: 12
B23: INFORMES FINANCIEROS | H23: 1 | N23: 1 | T23: 1 | Z23: 1
A24: UR 2 | B24: TOMA DE LECTURA | D24: 2700 | F24: 2700 | H24: 2700 | J24: 2700 | L24: 2700 | N24: 2700 | P24: 2700 | R24: 2700 | T24: 2700 | V24: 2700 | X24: 2700 | Z24: 2700
B25: ATENCION A REPORTES | D25: 30 | F25: 30 | H25: 30 | J25: 30 | L25: 30 | N25: 30 | P25: 30 | R25: 30 | T25: 30 | V25: 30 | X25: 30 | Z25: 30
B26: REQUERIMIENTOS ADEUDOS DE TRES MESES | D26: 250 | F26: 250 | H26: 250 | J26: 250 | L26: 250 | N26: 250 | P26: 250 | R26: 250 | T26: 250 | V26: 250 | X26: 250 | Z26: 250
B27: REPARACION DE FUGAS DE AGUA | D27: 20 | F27: 20 | H27: 20 | J27: 20 | L27: 20 | N27: 20 | P27: 20 | R27: 20 | T27: 20 | V27: 20 | X27: 20 | Z27: 20
B28: REPARACION DE FUGAS EN RED DE DRENAJE | D28: 3 | F28: 3 | H28: 3 | J28: 3 | L28: 3 | N28: 3 | P28: 3 | R28: 3 | T28: 3 | V28: 3 | X28: 3 | Z28: 3
B29: BACHEO | D29: 8 | F29: 8 | H29: 8 | J29: 8 | L29: 8 | N29: 8 | P29: 8 | R29: 8 | T29: 8 | V29: 8 | X29: 8 | Z29: 8
B30: CONEXIÓN DE TOMAS | D30: 8 | F30: 8 | H30: 8 | J30: 8 | L30: 8 | N30: 8 | P30: 8 | R30: 8 | T30: 8 | V30: 8 | X30: 8 | Z30: 8
A31: UR 3 | B31: OPERATIVIDAD Y MANTENIMIENTO DE PLANTA TRATADORA | D31: 31 | F31: 28 | H31: 31 | J31: 30 | L31: 31 | N31: 30 | P31: 31 | R31: 31 | T31: 30 | V31: 31 | X31: 30 | Z31: 31
K34: =J37*3 -> 1928199.6 | L34: =K37+M37+O37 -> 0 | M34: =L34-K34 -> -1928199.6
C35: UR 1
C36: SUMA TOTAL DE UR 1- UR 2- UR 3. | I36: PRESUPUESTO | J36: ENERO | K36: AVANCE | L36: FEBRERO | M36: AVANCE | N36: MARZO | O36: AVANCE | P36: ABRIL | Q36: AVANCE | R36: MAYO | S36: AVANCE | T36: JUNIO | U36: AVANCE | V36: JULIO | W36: AVANCE | X36: AGOSTO | Y36: AVANCE | Z36: SEPTIEMBRE | AA36: AVANCE | AB36: OCTUBRE | AC36: AVANCE | AD36: NOVIEMBRE | AE36: AVANCE | AF36: DICIEMBRE | AG36: AVANCE | AH36: CIERRE | AI36: AVANCE | AJ36: TOTAL PRESUPUESTADO
I37: =I38+I81+I123 -> 7773945.1 | J37: =J38+J81+J123 -> 642733.21 | K37: =K38+K81+K123 -> 0 | L37: =L38+L81+L123 -> 642733.21 | M37: =M38+M81+M123 -> 0 | N37: =N38+N81+N123 -> 642733.21 | O37: =O38+O81+O123 -> 0 | P37: =P38+P81+P123 -> 642733.21 | ... AG37: =AG38+AG81+AG123 -> 0 | AH37: =J37+L37+N37+P37+R37+T37+V37+X37+Z37+AB37+AD37+AF37 -> 7712798.6 | AI37: =K37+M37+O37+Q37+S37+U37+W37+Y37+AA37+AC37+AE37+AG37 -> 0 | AJ37: =I37 -> 7773945.1
C38: UR 1 | I38: =I39+I48+I61+I77 -> 1530869.5 | J38: =J39+J48+J61+J77 -> 127572.46 | K38: =K39+K48+K61+K77 -> 0 | L38: =L39+L48+L61+L77 -> 127572.46 | M38: =M39+M48+M61+M77 -> 0 | N38: =N39+N48+N61+N77 -> 127572.46 | O38: =O39+O48+O61+O77 -> 0 | P38: =P39+P48+P61+P77 -> 127572.46 | ... AG38: =AG39+AG48+AG61+AG77 -> 0 | AH38: =J38+L38+N38+P38+R38+T38+V38+X38+Z38+AB38+AD38+AF38 -> 1530869.5 | AI38: =AI39+AI48+AI61+AI77 -> 1530869.5 | AJ38: =AJ39+AJ48+AJ61+AJ77 -> 0
A39: 1000 | C39: Actividad 4.1 | D39: SERVICIOS PERSONALES | E39: CUMPLIMIENTO DE METAS | F39: CUMPLIMIENTO DE METAS | I39: =SUM(I40:I47) -> 1056942.1 | J39: =I39/12 -> 88078.512 | L39: =SUM(L40:L47) -> 88078.512 | M39: =SUM(M40:M47) -> 0 | N39: =SUM(N40:N47) -> 88078.512 | O39: =SUM(O40:O47) -> 0 | P39: =SUM(P40:P47) -> 88078.512 | Q39: =SUM(Q40:Q47) -> 0 | R39: =SUM(R40:R47) -> 88078.512 | S39: =SUM(S40:S47) -> 0 | ... AF39: =SUM(AF40:AF47) -> 88078.512 | AH39: =J39+L39+N39+P39+R39+T39+V39+X39+Z39+AB39+AD39+AF39 -> 1056942.1 | AI39: =J39+L39+N39+P39+R39+T39+V39+X39+Z39+AB39+AD39+AF39 -> 1056942.1
A40: 1131 | C40: 4.1.1 | D40: SUELDOS BASE | E40: CUMPLIMIENTO DE METAS | F40: CUMPLIMIENTO DE METAS | I40: 754640.22 | J40: =I40/12 -> 62886.685 | L40: =I40/12 -> 62886.685 | N40: =I40/12 -> 62886.685 | P40: =I40/12 -> 62886.685 | R40: =I40/12 -> 62886.685 | T40: =I40/12 -> 62886.685 | V40: =I40/12 -> 62886.685 | X40: =V40 -> 62886.685 | Z40: =I40/12 -> 62886.685 | AB40: =I40/12 -> 62886.685 | AD40: =I40/12 -> 62886.685 | AF40: =I40/12 -> 62886.685 | AH40: =J40+L40+N40+P40+R40+T40+V40+X40+Z40+AB40+AD40+AF40 -> 754640.22 | AI40: =J40+L40+N40+P40+R40+T40+V40+X40+Z40+AB40+AD40+AF40 -> 754640.22
A41: 1312 | C41: 4.1.2 | D41: ANTIGUEDAD | E41: CUMPLIMIENTO DE METAS | F41: CUMPLIMIENTO DE METAS | I41: 24339.5 | J41: =I41/12 -> 2028.2917 | L41: =I41/12 -> 2028.2917 | N41: =I41/12 -> 2028.2917 | P41: =I41/12 -> 2028.2917 | R41: =I41/12 -> 2028.2917 | T41: =I41/12 -> 2028.2917 | V41: =I41/12 -> 2028.2917 | X41: =I41/12 -> 2028.2917 | Z41: =I41/12 -> 2028.2917 | AB41: =I41/12 -> 2028.2917 | AD41: =I41/12 -> 2028.2917 | AF41: =I41/12 -> 2028.2917 | AH41: =J41+L41+N41+P41+R41+T41+V41+X41+Z41+AB41+AD41+AF41 -> 24339.5 | AI41: =J41+L41+N41+P41+R41+T41+V41+X41+Z41+AB41+AD41+AF41 -> 24339.5
A42: 1321 | C42: 4.1.3 | D42: PRIMA VACACIONAL | E42: CUMPLIMIENTO DE METAS | F42: CUMPLIMIENTO DE METAS | I42: 62025.22 | J42: =I42/12 -> 5168.7683 | L42: =I42/12 -> 5168.7683 | N42: =I42/12 -> 5168.7683 | P42: =I42/12 -> 5168.7683 | R42: =I42/12 -> 5168.7683 | T42: =I42/12 -> 5168.7683 | V42: =I42/12 -> 5168.7683 | X42: =I42/12 -> 5168.7683 | Z42: =I42/12 -> 5168.7683 | AB42: =I42/12 -> 5168.7683 | AD42: =I42/12 -> 5168.7683 | AF42: =I42/12 -> 5168.7683 | AH42: =J42+L42+N42+P42+R42+T42+V42+X42+Z42+AB42+AD42+AF42 -> 62025.22 | AI42: =J42+L42+N42+P42+R42+T42+V42+X42+Z42+AB42+AD42+AF42 -> 62025.22
A43: 1322 | C43: 4.1.4 | D43: PRIMA DOMINICAL | E43: CUMPLIMIENTO DE METAS | F43: CUMPLIMIENTO DE METAS | I43: 5202.52 | J43: =I43/12 -> 433.54333 | L43: =I43/12 -> 433.54333 | N43: =I43/12 -> 433.54333 | P43: =I43/12 -> 433.54333 | R43: =I43/12 -> 433.54333 | T43: =I43/12 -> 433.54333 | V43: =I43/12 -> 433.54333 | X43: =I43/12 -> 433.54333 | Z43: =I43/12 -> 433.54333 | AB43: =I43/12 -> 433.54333 | AD43: =I43/12 -> 433.54333 | AF43: =I43/12 -> 433.54333
...

Sheet MATRIZ
A1: NOMBRE DE LA INSTITUCIÓN: | D1: SAPADM
A3: PROPÓSITO | C3: ALINEACIÓN O.P DEL PG | F3: DR. MORA, POR UN TERRITORIO ORDENADO Y EN ARMONIA CON EL MEDIO AMBIENTE | M3: META PG | O3: REPOSICIONDE 400 MTS. DE RED DE AGUA POTABLE, Y, DIFUNDIR CULTURA Y CUIDADO DEL AGUA EN CABECERA MPAL. CULTURA DE AGUA.
A4: MEJORAR INFRAESTRUCTURA HIDRAULICA EN CALLES DE CABECERA MUNICIPAL , CULTURA DE USO MODERADO DE AGUA POTABLE IMPLEMENTADA EN CABECERA MUNICIPAL | C4: NOMBRE DEL INDICADOR | F4: OBRAS REALIZADAS | I4: DESCRIPCIÓN DEL INDICADOR | L4: OBRAS REALIZADAS | Q4: DIMENSIÓN | R4: MUNICIPAL
C5: MÉTODO DE CÁLCULO (FÓRMULA) | F5: No. DE OBRAS REALIZADAS/No. DE OBRAS PROGRAMADAS*100 | L5: FUENTE VAR. 1 | N5: No. DE OBRAS REALIZADAS | P5: FUENTE VAR. 2 | R5: No. DE OBRAS PROGRAMADAS
A6: RESUMEN NARRATIVO | C6: UNIDAD DE MEDIDA | F6: Indicador | J6: META (CANTIDAD) | L6: 1 | M6: UNIVERSO | O6: 1 | Q6: LÍNEA BASE | R6: PROGRAMA DE GOBIERNO | S6: AÑO: 2025
A7: MEJORAR INFRAESTRUCTURA HIDRAULICA EN CALLES DE CABECERA MUNICIPAL , CULTURA DE USO MODERADO DE AGUA POTABLE IMPLEMENTADA EN CABECERA MUNICIPAL | C7: TIPO DE META | F7: TRIMESTRAL | J7: FRECUENCIA DE MEDICIÓN | M7: Anual | O7: DESAGREGACIÓN GEOGRÁFICA
C8: CALENDARIZACIÓN DE LA META | F8: ENE | G8: FEB | H8: MAR | I8: ABR | J8: MAY | K8: JUN | L8: JUL | M8: AGO | N8: SEP | O8: OCT | P8: NOV | Q8: DIC | R8: TOTAL
F9: 1 | G9: 1 | H9: 1 | I9: 1 | J9: 1 | K9: 1 | L9: 1 | M9: 1 | N9: 1 | O9: 1 | P9: 1 | Q9: 1 | R9: 1
A11: COMPONENTE 1 | C11: ALINEACIÓN MG PROEDUCA | F11: DOCTOR MORA POR UN GOBIERNO ATENTO Y COMPROMETIDO | J11: OP PROEDUCA | O11: MP PROEDUCA | P11: REALIZAR 400 MTS. DE REPOSICION DE RED HIDRAULICA EN CABECERA MPAL.
A12: REPOSICION DE TUBO HIDRAULICO EN LAS CALLES QUE CUENTA CON TUBO DE ASBESTO CEMENTO EN LINEAS DE AGUA POTABLE DE CABECERA MUNICIPAL PARA EFICIENTAR EL SUMINISTRO | C12: NOMBRE DEL INDICADOR | F12: REPOSIDICION DE TUBO DE ASBESTO POR TUBO DE PVC EN CABECERA M PAL | I12: DESCRIPCIÓN DEL INDICADOR | L12: METROS DE REPOSICION DE TUBO ASBESTO POR PVC | Q12: DIMENSIÓN | R12: MUNICIPAL
C13: MÉTODO DE CÁLCULO (FÓRMULA) | F13: NUMERO DE METROS REALIZADOS /NUMERO DE METROS PROGRAMADOS*100 | L13: FUENTE VAR. 1 | N13: No. DE MTRS. REALIZADOS | P13: FUENTE VAR. 2 | R13: No. DE MTS. PROGRAMADOS
A14: RESUMEN NARRATIVO | C14: UNIDAD DE MEDIDA | F14: METROS | J14: META (CANTIDAD) | L14: REPOSICION DE 400 MTS. DE TUBO DE ASBESTO POR TUBO PVC HIDRAULICO | M14: UNIVERSO | O14: 1 | Q14: LÍNEA BASE | R14: PROGRAMA DE GOBIERNO | S14: AÑO:2025
A15: REPOSICION DE TUBO HIDRAULICO EN LAS CALLES QUE CUENTA CON TUBO DE ASBESTO CEMENTO EN LINEAS DE AGUA POTABLE DE CABECERA MUNICIPAL PARA EFICIENTAR EL SUMINISTRO | C15: TIPO DE META | F15: TRIMESTRAL | J15: FRECUENCIA DE MEDICIÓN | M15: TRIMESTRAL | O15: DESAGREGACIÓN GEOGRÁFICA
C16: CALENDARIZACIÓN DE LA META | F16: ENE | G16: FEB | H16: MAR | I16: ABR | J16: MAY | K16: JUN | L16: JUL | M16: AGO | N16: SEP | O16: OCT | P16: NOV | Q16: DIC | R16: TOTAL
F17: 0 | G17: 0 | H17: 0 | I17: 0 | J17: 0.5 | K17: 0 | L17: 0.5 | M17: 0 | N17: 0 | O17: 0 | P17: 0 | Q17: 0 | R17: 1
A18: ACTIVIDADES | F18: FECHA | H18: IDENTIFICACIÓN DE RECURSOS NECESARIOS
F19: INICIO | G19: FIN | H19: SERVICIOS PERSONALES | J19: MATERIALES Y SUMINISTROS | L19: SERVICIOS GENERALES | N19: AYUDAS Y SUBSIDIOS | P19: BIENES MUEBLES E INMUEBLES | R19: INVERSION PUBLICA
A20: 1.1 | B20: =[1]MIR!C2 -> Resumen Narrativo | F20: MAYO | G20: JULIO | R20: 116360
A21: UR/URD RESPONSABLE | C21: 2 | J21: NOMBRE DE RESPONSABLE | N21: C. LORENZO RAMIREZ GALVAN
A24: COMPONENTE 2 | C24: ALINEACIÓN MG PROEDUCA | J24: OP PROEDUCA | O24: MP PROEDUCA
A25: AMPLIACION DE RED DE DRENAJE EN CALLES QUE NO CUENTAN CON RED DE DRENAJE DE CABECERA MPAL. | C25: NOMBRE DEL INDICADOR | F25: AMPLIACIONES DE RED DE DRENAJE EN CABECERA MPAL. | I25: DESCRIPCIÓN DEL INDICADOR | L25: METROS DE AMPLIACION DE RED DE DRENAJE | Q25: DIMENSIÓN | R25: MUNICIPAL
C26: MÉTODO DE CÁLCULO (FÓRMULA) | F26: No. DE MTROS DE AMPLIACIONES REALIZADAS /No. DE MTS. DE AMPLIACIONES PROGRAMADOS*100 | L26: FUENTE VAR. 1 | N26: No. DE METROS DE AMPLIACIONES REALIZADAS | P26: FUENTE VAR. 2 | R26: No. DE MTS. DE AMPLIACIONES PROGRAMADAS
A27: RESUMEN NARRATIVO | C27: UNIDAD DE MEDIDA | F27: NETROS | J27: META (CANTIDAD) | L27: AMPLIACION DE 80 MTRS DE RED DE DRENAJE | M27: UNIVERSO | O27: 1 | Q27: LÍNEA BASE | R27: PROGRAMA DE GOBIERNO 2018-2021 | S27: AÑO:2022
A28: AMPLIACION DE RED DE DRENAJE EN CALLES QUE NO CUENTAN CON RED DE DRENAJE DE CABECERA MPAL. | C28: TIPO DE META | F28: TRIMESTRAL | J28: FRECUENCIA DE MEDICIÓN | M28: TRIMESTRAL | O28: DESAGREGACIÓN GEOGRÁFICA
C29: CALENDARIZACIÓN DE LA META | F29: ENE | G29: FEB | H29: MAR | I29: ABR | J29: MAY | K29: JUN | L29: JUL | M29: AGO | N29: SEP | O29: OCT | P29: NOV | Q29: DIC | R29: TOTAL
F30: 0 | G30: 0 | H30: 0 | I30: 1 | J30: 0 | K30: 0 | L30: 0.5 | M30: 0 | N30: 0 | O30: 0 | P30: 0 | Q30: 0 | R30: 1
A31: ACTIVIDADES | F31: FECHA | H31: IDENTIFICACIÓN DE RECURSOS NECESARIOS
F32: INICIO | G32: FIN | H32: SERVICIOS PERSONALES | J32: MATERIALES Y SUMINISTROS | L32: SERVICIOS GENERALES | N32: AYUDAS Y SUBSIDIOS | P32: BIENES MUEBLES E INMUEBLES | R32: INVERSION PUBLICA
A33: 1.1 | B33: GESTIONAR Y TRABAJAR PARA CUBRIR EL REZAGO DE INFRAESTRUCTURA DE DRENAJE EN CABECERA MPAL. | F33: ENERO | G33: ABRIL | R33: CONSTRUCCION DE OBRAS PARA EL ABASTECIMIENTO DE AGUA, PETROLEO, GAS, ELECTRICIDAD Y TELECOMUNICACIONES | S33: 102000
A34: UR/URD RESPONSABLE | C34: 2 | J34: NOMBRE DE RESPONSABLE | N34: C. ADALBERTO ZARAZUA HERNANDEZ
A37: COMPONENTE2 | C37: ALINEACIÓN MG PROEDUCA | J37: OP PROEDUCA | O37: MP PROEDUCA
A38: IMPLEMENTAR UNA CULTURA Y USO DE AGUA A LOS CIUDADANOS DE CABECERA MPAL. IMPLEMENTADA | C38: NOMBRE DEL INDICADOR | F38: IMPLEMENTACION DEL ESPACIO CULTURA Y USO DEL AGUA EN MPIO | I38: DESCRIPCIÓN DEL INDICADOR | L38: IMPLEMENTACION DEL ESPACIO CULTURA Y USO DEL AGUA EN MPIO | Q38: DIMENSIÓN | R38: MUNICIPAL
C39: MÉTODO DE CÁLCULO (FÓRMULA) | F39: No. TOTAL DE RECIBOS REALIZADOS/No. TOTAL DE RECIBOS PROGRAMADOS)*100 | L39: FUENTE VAR. 1 | N39: No. TOTAL DE RECIBOS REALIZADOS | P39: FUENTE VAR. 2 | R39: No. TOTAL DE RECIBOS PROGRAMADOS
A40: RESUMEN NARRATIVO | C40: UNIDAD DE MEDIDA | F40: NUM DE RECIBOS | J40: META (CANTIDAD) | L40: 12000 | M40: UNIVERSO | O40: 1 | Q40: LÍNEA BASE | R40: PROGRAMA DE GOBIERNO | S40: AÑO: 2025
A41: IMPLEMENTAR UNA CULTURA Y USO DE AGUA A LOS CIUDADANOS DE CABECERA MPAL. IMPLEMENTADA | C41: TIPO DE META | F41: TRIMESTRAL | J41: FRECUENCIA DE MEDICIÓN | M41: TRIMESTRAL | O41: DESAGREGACIÓN GEOGRÁFICA
C42: CALENDARIZACIÓN DE LA META | F42: ENE | G42: FEB | H42: MAR | I42: ABR | J42: MAY | K42: JUN | L42: JUL | M42: AGO | N42: SEP | O42: OCT | P42: NOV | Q42: DIC | R42: TOTAL
F43: 0.0833 | G43: 0.0833 | H43: 0.0833 | I43: 0.0833 | J43: 0.0833 | K43: 0.0833 | L43: 0.0833 | M43: 0.0833 | N43: 0.0833 | O43: 0.0833 | P43: 0.0833 | Q43: 0.0833 | R43: 1
A44: ACTIVIDADES | F44: FECHA | H44: IDENTIFICACIÓN DE RECURSOS NECESARIOS
F45: INICIO | G45: FIN | H45: GASTOS DE ORDEN SOCIAL Y CULTURAL | J45: MATERIALES Y SUMINISTROS | L45: SERVICIOS GENERALES | N45: AYUDAS Y SUBSIDIOS | P45: BIENES MUEBLES E INMUEBLES | R45: INVERSION PUBLICA
A46: 2.1 | B46: 12000 IMPRESIÓN DE HOJAS MEDIA CARTA PARA RECIBOS , 14 PLATICAS DE CULTURA Y USO DEL AGUA Y UN EVENTO DE FESTEJO DE DIA INTERNACIONAL DEL AGUA POTABLE | F46: ENERO | G46: DICIEMBRE | H46: 26000
...
